BEGIN:VCALENDAR
VERSION:2.0
PRODID:SchoolNow
CALSCALE:GREGORIAN
BEGIN:VEVENT
UID:3c097e16-3b7f-11f1-9777-0a58a9feac02
DTSTAMP:20260421T062007Z
SUMMARY:6th grade Math MSTEP
URL;VALUE=URI:https://www.mccardinals.org/calendar/9003749/6th-grade-math-m
 step
DTSTART;VALUE=DATE:20260422
DTEND;VALUE=DATE:20260423
END:VEVENT
END:VCALENDAR
