BEGIN:VCALENDAR
VERSION:2.0
PRODID:SchoolNow
CALSCALE:GREGORIAN
BEGIN:VEVENT
UID:3c852e62-3b7f-11f1-ac61-0a58a9feac02
DTSTAMP:20260419T235508Z
SUMMARY:3rd graders to Project Red
URL;VALUE=URI:https://www.mccardinals.org/calendar/9003750/3rd-graders-to-p
 roject-red
DTSTART;VALUE=DATE:20260421
DTEND;VALUE=DATE:20260422
END:VEVENT
END:VCALENDAR
