BEGIN:VCALENDAR
VERSION:2.0
PRODID:SchoolNow
CALSCALE:GREGORIAN
BEGIN:VEVENT
UID:3c8532ae-3b7f-11f1-9382-0a58a9feac02
DTSTAMP:20260419T235508Z
SUMMARY:6th grade Math MSTEP
URL;VALUE=URI:https://www.mccardinals.org/calendar/9003751/6th-grade-math-m
 step
DTSTART;VALUE=DATE:20260421
DTEND;VALUE=DATE:20260422
END:VEVENT
END:VCALENDAR
