BEGIN:VCALENDAR
VERSION:2.0
PRODID:SchoolNow
CALSCALE:GREGORIAN
BEGIN:VEVENT
UID:3c853420-3b7f-11f1-bb84-0a58a9feac02
DTSTAMP:20260422T064008Z
SUMMARY:Keicher TRUE Community
URL;VALUE=URI:https://www.mccardinals.org/calendar/9003752/keicher-true-com
 munity
DTSTART;VALUE=DATE:20260422
DTEND;VALUE=DATE:20260423
END:VEVENT
END:VCALENDAR
