BEGIN:VCALENDAR
VERSION:2.0
PRODID:SchoolNow
CALSCALE:GREGORIAN
BEGIN:VEVENT
UID:656ced8e-f6fb-11ef-90ef-028d16e2fd65
DTSTAMP:20251216T215034Z
SUMMARY:PTO Meeting  - Arnold Elementary
URL;VALUE=URI:https://www.mccardinals.org/kes/calendar/7579990/pto-meeting-
 arnold-elementary
DTSTART:20251202T230000Z
DTEND:20251203T010000Z
END:VEVENT
END:VCALENDAR
