BEGIN:VCALENDAR
VERSION:2.0
PRODID:SchoolNow
CALSCALE:GREGORIAN
BEGIN:VEVENT
UID:656cee6a-f6fb-11ef-9fe3-028d16e2fd65
DTSTAMP:20251216T215034Z
SUMMARY:PTO Meeting  - Arnold Elementary
URL;VALUE=URI:https://www.mccardinals.org/kes/calendar/7579991/pto-meeting-
 arnold-elementary
DTSTART:20260106T230000Z
DTEND:20260107T010000Z
END:VEVENT
END:VCALENDAR
