BEGIN:VCALENDAR
VERSION:2.0
PRODID:SchoolNow
CALSCALE:GREGORIAN
BEGIN:VEVENT
UID:656cf356-f6fb-11ef-bbfd-028d16e2fd65
DTSTAMP:20251216T215034Z
SUMMARY:PTO Meeting  - Arnold Elementary
URL;VALUE=URI:https://www.mccardinals.org/kes/calendar/7579996/pto-meeting-
 arnold-elementary
DTSTART:20260602T220000Z
DTEND:20260603T000000Z
END:VEVENT
END:VCALENDAR
