BEGIN:VCALENDAR
VERSION:2.0
PRODID:SchoolNow
CALSCALE:GREGORIAN
BEGIN:VEVENT
UID:656cf432-f6fb-11ef-91b3-028d16e2fd65
DTSTAMP:20251216T215034Z
SUMMARY:PTO Meeting  - Arnold Elementary
URL;VALUE=URI:https://www.mccardinals.org/kes/calendar/7579997/pto-meeting-
 arnold-elementary
DTSTART:20260707T220000Z
DTEND:20260708T000000Z
END:VEVENT
END:VCALENDAR
