BEGIN:VCALENDAR
VERSION:2.0
PRODID:SchoolNow
CALSCALE:GREGORIAN
BEGIN:VEVENT
UID:656cf6c6-f6fb-11ef-b9f7-028d16e2fd65
DTSTAMP:20251216T215034Z
SUMMARY:PTO Meeting  - Arnold Elementary
URL;VALUE=URI:https://www.mccardinals.org/kes/calendar/7580000/pto-meeting-
 arnold-elementary
DTSTART:20261006T220000Z
DTEND:20261007T000000Z
END:VEVENT
END:VCALENDAR
