BEGIN:VCALENDAR
VERSION:2.0
PRODID:SchoolNow
CALSCALE:GREGORIAN
BEGIN:VEVENT
UID:8c0eff0c-13db-11f0-a818-0ec64aa6b5f9
DTSTAMP:20251216T215034Z
SUMMARY:Professional Development Day for Staff
URL;VALUE=URI:https://www.mccardinals.org/kes/calendar/7871916/professional
 -development-day-for-staff
DTSTART;VALUE=DATE:20250818
DTEND;VALUE=DATE:20250819
END:VEVENT
END:VCALENDAR
