BEGIN:VCALENDAR
VERSION:2.0
PRODID:SchoolNow
CALSCALE:GREGORIAN
BEGIN:VEVENT
UID:8c0f31ac-13db-11f0-a7b9-0ec64aa6b5f9
DTSTAMP:20251216T215034Z
SUMMARY:Professional Development Day for Staff
URL;VALUE=URI:https://www.mccardinals.org/kes/calendar/7871917/professional
 -development-day-for-staff
DTSTART;VALUE=DATE:20250819
DTEND;VALUE=DATE:20250820
END:VEVENT
END:VCALENDAR
