BEGIN:VCALENDAR
VERSION:2.0
PRODID:SchoolNow
CALSCALE:GREGORIAN
BEGIN:VEVENT
UID:8c0f336e-13db-11f0-bac9-0ec64aa6b5f9
DTSTAMP:20251216T215034Z
SUMMARY:First Day with Students - Half Day
URL;VALUE=URI:https://www.mccardinals.org/kes/calendar/7871918/first-day-wi
 th-students-half-day
DTSTART;VALUE=DATE:20250820
DTEND;VALUE=DATE:20250821
END:VEVENT
END:VCALENDAR
