BEGIN:VCALENDAR
VERSION:2.0
PRODID:SchoolNow
CALSCALE:GREGORIAN
BEGIN:VEVENT
UID:8c0f349a-13db-11f0-93bd-0ec64aa6b5f9
DTSTAMP:20251216T215034Z
SUMMARY:No School - Labor Day Weekend
URL;VALUE=URI:https://www.mccardinals.org/kes/calendar/7871919/no-school-la
 bor-day-weekend
DTSTART;VALUE=DATE:20250829
DTEND;VALUE=DATE:20250830
END:VEVENT
END:VCALENDAR
