BEGIN:VCALENDAR
VERSION:2.0
PRODID:SchoolNow
CALSCALE:GREGORIAN
BEGIN:VEVENT
UID:8c0f36a2-13db-11f0-af98-0ec64aa6b5f9
DTSTAMP:20251216T215034Z
SUMMARY:No School for Students - PD Day for Staff
URL;VALUE=URI:https://www.mccardinals.org/kes/calendar/7871921/no-school-fo
 r-students-pd-day-for-staff
DTSTART;VALUE=DATE:20251020
DTEND;VALUE=DATE:20251021
END:VEVENT
END:VCALENDAR
