BEGIN:VCALENDAR
VERSION:2.0
PRODID:SchoolNow
CALSCALE:GREGORIAN
BEGIN:VEVENT
UID:8c0f379c-13db-11f0-b514-0ec64aa6b5f9
DTSTAMP:20251216T215034Z
SUMMARY:No School - Thanksgiving Break
URL;VALUE=URI:https://www.mccardinals.org/kes/calendar/7871922/no-school-th
 anksgiving-break
DTSTART;VALUE=DATE:20251126
DTEND;VALUE=DATE:20251129
END:VEVENT
END:VCALENDAR
