BEGIN:VCALENDAR
VERSION:2.0
PRODID:SchoolNow
CALSCALE:GREGORIAN
BEGIN:VEVENT
UID:8c0f388c-13db-11f0-b185-0ec64aa6b5f9
DTSTAMP:20251216T215034Z
SUMMARY:No School - Winter Break
URL;VALUE=URI:https://www.mccardinals.org/kes/calendar/7871923/no-school-wi
 nter-break
DTSTART;VALUE=DATE:20251229
DTEND;VALUE=DATE:20260103
END:VEVENT
END:VCALENDAR
