BEGIN:VCALENDAR
VERSION:2.0
PRODID:SchoolNow
CALSCALE:GREGORIAN
BEGIN:VEVENT
UID:8c0f3968-13db-11f0-913e-0ec64aa6b5f9
DTSTAMP:20251216T215034Z
SUMMARY:No School - Professional Development for Staff
URL;VALUE=URI:https://www.mccardinals.org/kes/calendar/7871924/no-school-pr
 ofessional-development-for-staff
DTSTART;VALUE=DATE:20260119
DTEND;VALUE=DATE:20260120
END:VEVENT
END:VCALENDAR
