BEGIN:VCALENDAR
VERSION:2.0
PRODID:SchoolNow
CALSCALE:GREGORIAN
BEGIN:VEVENT
UID:8c0f3a58-13db-11f0-aef7-0ec64aa6b5f9
DTSTAMP:20251216T215034Z
SUMMARY:No School
URL;VALUE=URI:https://www.mccardinals.org/kes/calendar/7871925/no-school
DTSTART;VALUE=DATE:20260216
DTEND;VALUE=DATE:20260217
END:VEVENT
END:VCALENDAR
