BEGIN:VCALENDAR
VERSION:2.0
PRODID:SchoolNow
CALSCALE:GREGORIAN
BEGIN:VEVENT
UID:8c0f3b48-13db-11f0-bc18-0ec64aa6b5f9
DTSTAMP:20251216T215034Z
SUMMARY:No School - Spring Break
URL;VALUE=URI:https://www.mccardinals.org/kes/calendar/7871926/no-school-sp
 ring-break
DTSTART;VALUE=DATE:20260327
DTEND;VALUE=DATE:20260328
END:VEVENT
END:VCALENDAR
