BEGIN:VCALENDAR
VERSION:2.0
PRODID:SchoolNow
CALSCALE:GREGORIAN
BEGIN:VEVENT
UID:8c0f3d14-13db-11f0-9d68-0ec64aa6b5f9
DTSTAMP:20251216T215034Z
SUMMARY:No School - PD Day for Staff
URL;VALUE=URI:https://www.mccardinals.org/kes/calendar/7871928/no-school-pd
 -day-for-staff
DTSTART;VALUE=DATE:20260427
DTEND;VALUE=DATE:20260428
END:VEVENT
END:VCALENDAR
