BEGIN:VCALENDAR
VERSION:2.0
PRODID:SchoolNow
CALSCALE:GREGORIAN
BEGIN:VEVENT
UID:8c0f3dfa-13db-11f0-9a05-0ec64aa6b5f9
DTSTAMP:20251216T215034Z
SUMMARY:No School - Memorial Day
URL;VALUE=URI:https://www.mccardinals.org/kes/calendar/7871929/no-school-me
 morial-day
DTSTART;VALUE=DATE:20260525
DTEND;VALUE=DATE:20260526
END:VEVENT
END:VCALENDAR
