BEGIN:VCALENDAR
VERSION:2.0
PRODID:SchoolNow
CALSCALE:GREGORIAN
BEGIN:VEVENT
UID:8c0f430e-13db-11f0-9dc0-0ec64aa6b5f9
DTSTAMP:20251216T215034Z
SUMMARY:PTO Meeting  - Arnold Elementary
URL;VALUE=URI:https://www.mccardinals.org/kes/calendar/7871930/pto-meeting-
 arnold-elementary
DTSTART:20261103T230000Z
DTEND:20261104T010000Z
END:VEVENT
END:VCALENDAR
