BEGIN:VCALENDAR
VERSION:2.0
PRODID:SchoolNow
CALSCALE:GREGORIAN
BEGIN:VEVENT
UID:8c0f4458-13db-11f0-9595-0ec64aa6b5f9
DTSTAMP:20251216T215034Z
SUMMARY:PTO Meeting  - Arnold Elementary
URL;VALUE=URI:https://www.mccardinals.org/kes/calendar/7871931/pto-meeting-
 arnold-elementary
DTSTART:20261201T230000Z
DTEND:20261202T010000Z
END:VEVENT
END:VCALENDAR
