BEGIN:VCALENDAR
VERSION:2.0
PRODID:SchoolNow
CALSCALE:GREGORIAN
BEGIN:VEVENT
UID:8c0f4552-13db-11f0-9c57-0ec64aa6b5f9
DTSTAMP:20251216T215035Z
SUMMARY:No School - Winter Break
URL;VALUE=URI:https://www.mccardinals.org/kes/calendar/7871932/no-school-wi
 nter-break
DTSTART;VALUE=DATE:20251222
DTEND;VALUE=DATE:20251227
END:VEVENT
END:VCALENDAR
