BEGIN:VCALENDAR
VERSION:2.0
PRODID:SchoolNow
CALSCALE:GREGORIAN
BEGIN:VEVENT
UID:7457e3f0-2f57-11f0-8119-0a58a9feac02
DTSTAMP:20251216T215034Z
SUMMARY:PTO Meeting  - Arnold Elementary
URL;VALUE=URI:https://www.mccardinals.org/kes/calendar/8119302/pto-meeting-
 arnold-elementary
DTSTART:20270105T230000Z
DTEND:20270106T010000Z
END:VEVENT
END:VCALENDAR
