BEGIN:VCALENDAR
VERSION:2.0
PRODID:SchoolNow
CALSCALE:GREGORIAN
BEGIN:VEVENT
UID:bc2f797e-5133-11f0-93a5-0a58a9feac02
DTSTAMP:20251216T215034Z
SUMMARY:Early Release
URL;VALUE=URI:https://www.mccardinals.org/kes/calendar/8349167/early-releas
 e
DTSTART;VALUE=DATE:20251029
DTEND;VALUE=DATE:20251030
END:VEVENT
END:VCALENDAR
