BEGIN:VCALENDAR
VERSION:2.0
PRODID:SchoolNow
CALSCALE:GREGORIAN
BEGIN:VEVENT
UID:bc2f99d6-5133-11f0-a2f9-0a58a9feac02
DTSTAMP:20251216T215034Z
SUMMARY:Early Release
URL;VALUE=URI:https://www.mccardinals.org/kes/calendar/8349168/early-releas
 e
DTSTART;VALUE=DATE:20250924
DTEND;VALUE=DATE:20250925
END:VEVENT
END:VCALENDAR
