BEGIN:VCALENDAR
VERSION:2.0
PRODID:SchoolNow
CALSCALE:GREGORIAN
BEGIN:VEVENT
UID:bc2f9d46-5133-11f0-8a87-0a58a9feac02
DTSTAMP:20251216T215034Z
SUMMARY:Early Release/HS Exams
URL;VALUE=URI:https://www.mccardinals.org/kes/calendar/8349170/early-releas
 e-hs-exams
DTSTART;VALUE=DATE:20251219
DTEND;VALUE=DATE:20251220
END:VEVENT
END:VCALENDAR
