BEGIN:VCALENDAR
VERSION:2.0
PRODID:SchoolNow
CALSCALE:GREGORIAN
BEGIN:VEVENT
UID:bc2f9e54-5133-11f0-9937-0a58a9feac02
DTSTAMP:20251216T215034Z
SUMMARY:Early Release
URL;VALUE=URI:https://www.mccardinals.org/kes/calendar/8349171/early-releas
 e
DTSTART;VALUE=DATE:20260128
DTEND;VALUE=DATE:20260129
END:VEVENT
END:VCALENDAR
