BEGIN:VCALENDAR
VERSION:2.0
PRODID:SchoolNow
CALSCALE:GREGORIAN
BEGIN:VEVENT
UID:bc2f9f4e-5133-11f0-8b02-0a58a9feac02
DTSTAMP:20251216T215034Z
SUMMARY:No School - President's Day Weekend
URL;VALUE=URI:https://www.mccardinals.org/kes/calendar/8349172/no-school-pr
 esidents-day-weekend
DTSTART;VALUE=DATE:20260213
DTEND;VALUE=DATE:20260214
END:VEVENT
END:VCALENDAR
