BEGIN:VCALENDAR
VERSION:2.0
PRODID:SchoolNow
CALSCALE:GREGORIAN
BEGIN:VEVENT
UID:bc2fa048-5133-11f0-a3d0-0a58a9feac02
DTSTAMP:20251216T215034Z
SUMMARY:Early Release
URL;VALUE=URI:https://www.mccardinals.org/kes/calendar/8349173/early-releas
 e
DTSTART;VALUE=DATE:20260225
DTEND;VALUE=DATE:20260226
END:VEVENT
END:VCALENDAR
