BEGIN:VCALENDAR
VERSION:2.0
PRODID:SchoolNow
CALSCALE:GREGORIAN
BEGIN:VEVENT
UID:bc2fa12e-5133-11f0-9c64-0a58a9feac02
DTSTAMP:20251216T215034Z
SUMMARY:Early Release
URL;VALUE=URI:https://www.mccardinals.org/kes/calendar/8349174/early-releas
 e
DTSTART;VALUE=DATE:20260422
DTEND;VALUE=DATE:20260423
END:VEVENT
END:VCALENDAR
