BEGIN:VCALENDAR
VERSION:2.0
PRODID:SchoolNow
CALSCALE:GREGORIAN
BEGIN:VEVENT
UID:bc2fa2f0-5133-11f0-801b-0a58a9feac02
DTSTAMP:20251216T215034Z
SUMMARY:Early Release/HS Exams
URL;VALUE=URI:https://www.mccardinals.org/kes/calendar/8349176/early-releas
 e-hs-exams
DTSTART;VALUE=DATE:20260603
DTEND;VALUE=DATE:20260604
END:VEVENT
END:VCALENDAR
