BEGIN:VCALENDAR
VERSION:2.0
PRODID:SchoolNow
CALSCALE:GREGORIAN
BEGIN:VEVENT
UID:bc2fa3d6-5133-11f0-9959-0a58a9feac02
DTSTAMP:20251216T215034Z
SUMMARY:Early Release/HS Exams
URL;VALUE=URI:https://www.mccardinals.org/kes/calendar/8349177/early-releas
 e-hs-exams
DTSTART;VALUE=DATE:20260604
DTEND;VALUE=DATE:20260605
END:VEVENT
END:VCALENDAR
