BEGIN:VCALENDAR
VERSION:2.0
PRODID:SchoolNow
CALSCALE:GREGORIAN
BEGIN:VEVENT
UID:bc2fa6b0-5133-11f0-8f6e-0a58a9feac02
DTSTAMP:20251216T215034Z
SUMMARY:PTO Meeting  - Arnold Elementary
URL;VALUE=URI:https://www.mccardinals.org/kes/calendar/8349178/pto-meeting-
 arnold-elementary
DTSTART:20270202T230000Z
DTEND:20270203T010000Z
END:VEVENT
END:VCALENDAR
