BEGIN:VCALENDAR
VERSION:2.0
PRODID:SchoolNow
CALSCALE:GREGORIAN
BEGIN:VEVENT
UID:2d31a0b2-5c28-11f0-b506-0a58a9feac02
DTSTAMP:20251216T215034Z
SUMMARY:Fall Count Day
URL;VALUE=URI:https://www.mccardinals.org/kes/calendar/8396089/fall-count-d
 ay
DTSTART;VALUE=DATE:20251001
DTEND;VALUE=DATE:20251002
END:VEVENT
END:VCALENDAR
