BEGIN:VCALENDAR
VERSION:2.0
PRODID:SchoolNow
CALSCALE:GREGORIAN
BEGIN:VEVENT
UID:2d31c5f6-5c28-11f0-acf6-0a58a9feac02
DTSTAMP:20251216T215034Z
SUMMARY:PTO Meeting  - Arnold Elementary
URL;VALUE=URI:https://www.mccardinals.org/kes/calendar/8396090/pto-meeting-
 arnold-elementary
DTSTART:20270302T230000Z
DTEND:20270303T010000Z
END:VEVENT
END:VCALENDAR
