BEGIN:VCALENDAR
VERSION:2.0
PRODID:SchoolNow
CALSCALE:GREGORIAN
BEGIN:VEVENT
UID:63cd4606-6643-11f0-a951-0a58a9feac02
DTSTAMP:20251216T215034Z
SUMMARY:Keicher Grades 4-6 Open House
URL;VALUE=URI:https://www.mccardinals.org/kes/calendar/8434126/keicher-grad
 es-4-6-open-house
DTSTART:20250819T213000Z
DTEND:20250819T223000Z
END:VEVENT
END:VCALENDAR
