BEGIN:VCALENDAR
VERSION:2.0
PRODID:SchoolNow
CALSCALE:GREGORIAN
BEGIN:VEVENT
UID:59a6d94c-834b-11f0-a02e-02ec7d74df11
DTSTAMP:20251216T215034Z
SUMMARY:Fall Festival
URL;VALUE=URI:https://www.mccardinals.org/kes/calendar/8549902/fall-festiva
 l
DTSTART:20251019T180000Z
DTEND:20251019T210000Z
END:VEVENT
END:VCALENDAR
