BEGIN:VCALENDAR
VERSION:2.0
PRODID:SchoolNow
CALSCALE:GREGORIAN
BEGIN:VEVENT
UID:59a6deb0-834b-11f0-a438-02ec7d74df11
DTSTAMP:20251216T215034Z
SUMMARY:PTO Meeting  - Arnold Elementary
URL;VALUE=URI:https://www.mccardinals.org/kes/calendar/8549903/pto-meeting-
 arnold-elementary
DTSTART:20270406T220000Z
DTEND:20270407T000000Z
END:VEVENT
END:VCALENDAR
