BEGIN:VCALENDAR
VERSION:2.0
PRODID:SchoolNow
CALSCALE:GREGORIAN
BEGIN:VEVENT
UID:412d17c8-9692-11f0-afeb-0a58a9feac02
DTSTAMP:20251216T215034Z
SUMMARY:Keicher Math Night
URL;VALUE=URI:https://www.mccardinals.org/kes/calendar/8648470/keicher-math
 -night
DTSTART:20250922T220000Z
DTEND:20250922T230000Z
END:VEVENT
END:VCALENDAR
