BEGIN:VCALENDAR
VERSION:2.0
PRODID:SchoolNow
CALSCALE:GREGORIAN
BEGIN:VEVENT
UID:412d3708-9692-11f0-afe5-0a58a9feac02
DTSTAMP:20251216T215034Z
SUMMARY:Keicher Lock-In
URL;VALUE=URI:https://www.mccardinals.org/kes/calendar/8648471/keicher-lock
 -in
DTSTART:20250926T193000Z
DTEND:20250926T220000Z
END:VEVENT
END:VCALENDAR
