BEGIN:VCALENDAR
VERSION:2.0
PRODID:SchoolNow
CALSCALE:GREGORIAN
BEGIN:VEVENT
UID:412d38ac-9692-11f0-abfd-0a58a9feac02
DTSTAMP:20251216T215034Z
SUMMARY:Keicher Popcorn Day $1 per bag
URL;VALUE=URI:https://www.mccardinals.org/kes/calendar/8648472/keicher-popc
 orn-day-1-per-bag
DTSTART;VALUE=DATE:20251003
DTEND;VALUE=DATE:20251004
END:VEVENT
END:VCALENDAR
