BEGIN:VCALENDAR
VERSION:2.0
PRODID:SchoolNow
CALSCALE:GREGORIAN
BEGIN:VEVENT
UID:412d39ce-9692-11f0-8419-0a58a9feac02
DTSTAMP:20251216T215034Z
SUMMARY:Sixth Grade Camp
URL;VALUE=URI:https://www.mccardinals.org/kes/calendar/8648473/sixth-grade-
 camp
DTSTART;VALUE=DATE:20251008
DTEND;VALUE=DATE:20251011
END:VEVENT
END:VCALENDAR
