BEGIN:VCALENDAR
VERSION:2.0
PRODID:SchoolNow
CALSCALE:GREGORIAN
BEGIN:VEVENT
UID:412d3ad2-9692-11f0-b643-0a58a9feac02
DTSTAMP:20251216T215034Z
SUMMARY:Keicher Parent Cafe - Parenting is Scary - RSVP Needed
URL;VALUE=URI:https://www.mccardinals.org/kes/calendar/8648474/keicher-pare
 nt-cafe-parenting-is-scary-rsvp-needed
DTSTART:20251021T213000Z
DTEND:20251021T233000Z
END:VEVENT
END:VCALENDAR
