BEGIN:VCALENDAR
VERSION:2.0
PRODID:SchoolNow
CALSCALE:GREGORIAN
BEGIN:VEVENT
UID:412d3bd6-9692-11f0-8072-0a58a9feac02
DTSTAMP:20251216T215034Z
SUMMARY:Keicher Lock-In - $15
URL;VALUE=URI:https://www.mccardinals.org/kes/calendar/8648475/keicher-lock
 -in-15
DTSTART:20251024T193000Z
DTEND:20251024T220000Z
END:VEVENT
END:VCALENDAR
