BEGIN:VCALENDAR
VERSION:2.0
PRODID:SchoolNow
CALSCALE:GREGORIAN
BEGIN:VEVENT
UID:412d3cc6-9692-11f0-8a01-0a58a9feac02
DTSTAMP:20251216T215034Z
SUMMARY:Keicher Popcorn Day
URL;VALUE=URI:https://www.mccardinals.org/kes/calendar/8648476/keicher-popc
 orn-day
DTSTART;VALUE=DATE:20251031
DTEND;VALUE=DATE:20251101
END:VEVENT
END:VCALENDAR
