BEGIN:VCALENDAR
VERSION:2.0
PRODID:SchoolNow
CALSCALE:GREGORIAN
BEGIN:VEVENT
UID:412d3faa-9692-11f0-93f0-0a58a9feac02
DTSTAMP:20251216T215034Z
SUMMARY:PTO Meeting  - Arnold Elementary
URL;VALUE=URI:https://www.mccardinals.org/kes/calendar/8648477/pto-meeting-
 arnold-elementary
DTSTART:20270504T220000Z
DTEND:20270505T000000Z
END:VEVENT
END:VCALENDAR
