BEGIN:VCALENDAR
VERSION:2.0
PRODID:SchoolNow
CALSCALE:GREGORIAN
BEGIN:VEVENT
UID:e8ab534e-9d8a-11f0-bad0-0affcbf89a2f
DTSTAMP:20251216T215034Z
SUMMARY:Keicher Picture Day
URL;VALUE=URI:https://www.mccardinals.org/kes/calendar/8678697/keicher-pict
 ure-day
DTSTART;VALUE=DATE:20251006
DTEND;VALUE=DATE:20251007
END:VEVENT
END:VCALENDAR
