BEGIN:VCALENDAR
VERSION:2.0
PRODID:SchoolNow
CALSCALE:GREGORIAN
BEGIN:VEVENT
UID:87a0e47a-a54f-11f0-b00c-0ef5f1604195
DTSTAMP:20251216T215034Z
SUMMARY:PTO Meeting  - Arnold Elementary
URL;VALUE=URI:https://www.mccardinals.org/kes/calendar/8709871/pto-meeting-
 arnold-elementary
DTSTART:20270601T220000Z
DTEND:20270602T000000Z
END:VEVENT
END:VCALENDAR
